BEGIN:VCALENDAR
VERSION:2.0
PRODID:-//eventon.com NONSGML v1.0//EN
CALSCALE:GREGORIAN
METHOD:PUBLISH
BEGIN:VEVENT
UID:69e627aaa10ea
DTSTAMP:20260420T131834Z
DTSTART:20240114T130000Z
DTEND:20240114T225000Z
LOCATION:
SUMMARY:Sound of Hope
DESCRIPTION:Liebe Freundinnen und Freunde\,  wir laden Sie herzlich ein zu 
 unserer Musikveranstaltung “Sound of Hope“\,  die am Sonntag\,  den 14.
  Januar 2024 um 14:00 Uhr im Körber Haus\,  Holzhude 1 stattfinden wird. K
 inderbetreuung ist vorhanden. Einlass ist um 13:30 Uhr. Reservierungen unte
 r der Nummer: +49 160 175 29 51 Thema:Musik[..]\nhttps://bakm-hamburg.de/ev
 ents/sound-of-hope/
URL:https://bakm-hamburg.de/events/sound-of-hope/
END:VEVENT
END:VCALENDAR